BEGIN:VCALENDAR
VERSION:2.0
PRODID:-//Mingo WV - ECPv6.15.20//NONSGML v1.0//EN
CALSCALE:GREGORIAN
METHOD:PUBLISH
X-WR-CALNAME:Mingo WV
X-ORIGINAL-URL:https://mingowv.com
X-WR-CALDESC:Events for Mingo WV
REFRESH-INTERVAL;VALUE=DURATION:PT1H
X-Robots-Tag:noindex
X-PUBLISHED-TTL:PT1H
BEGIN:VTIMEZONE
TZID:UTC
BEGIN:STANDARD
TZOFFSETFROM:+0000
TZOFFSETTO:+0000
TZNAME:UTC
DTSTART:20220101T000000
END:STANDARD
END:VTIMEZONE
BEGIN:VEVENT
DTSTART;TZID=UTC:20231114T180000
DTEND;TZID=UTC:20231114T200000
DTSTAMP:20260424T210023
CREATED:20230925T210140Z
LAST-MODIFIED:20230925T210140Z
UID:10000093-1699984800-1699992000@mingowv.com
SUMMARY:Thanksgiving Group Connection
DESCRIPTION:We will be having a Thanksgiving Celebration for families. Food\, crafts and fun!
URL:https://mingowv.com/event/thanksgiving-group-connection/
LOCATION:ABLE Families
CATEGORIES:Community Events
ATTACH;FMTTYPE=image/png:https://mingowv.com/wp-content/uploads/2023/06/trendy-3.png
ORGANIZER;CN="Marlene Spaulding":MAILTO:mspaulding@ablefamilies.org
END:VEVENT
BEGIN:VEVENT
DTSTART;TZID=UTC:20231026T180000
DTEND;TZID=UTC:20231026T200000
DTSTAMP:20260424T210023
CREATED:20230925T204839Z
LAST-MODIFIED:20230925T204839Z
UID:10000091-1698343200-1698350400@mingowv.com
SUMMARY:ABLE Families Trunk or Treat
DESCRIPTION:Several vendors will be setting up and distributing candy\, arts and crafts\, and supplies. Service providers will also be distributing information to help strengthen families.
URL:https://mingowv.com/event/able-families-trunk-or-treat/
LOCATION:Kermit Community Park
CATEGORIES:Community Events
ATTACH;FMTTYPE=image/png:https://mingowv.com/wp-content/uploads/2023/06/trendy-3.png
ORGANIZER;CN="Marlene Spaulding":MAILTO:mspaulding@ablefamilies.org
END:VEVENT
BEGIN:VEVENT
DTSTART;TZID=UTC:20231025T160000
DTEND;TZID=UTC:20231025T180000
DTSTAMP:20260424T210023
CREATED:20230925T205028Z
LAST-MODIFIED:20230925T205028Z
UID:10000092-1698249600-1698256800@mingowv.com
SUMMARY:ABLE Families Lights on Afterschool
DESCRIPTION:Lights on Afterschool is an event to bring awareness to afterschool programs across the country. We have 30 children daily who will share their talents with the community.
URL:https://mingowv.com/event/able-families-lights-on-afterschool/
LOCATION:ABLE Families
CATEGORIES:Community Events
ATTACH;FMTTYPE=image/png:https://mingowv.com/wp-content/uploads/2023/06/trendy-3.png
ORGANIZER;CN="Marlene Spaulding":MAILTO:mspaulding@ablefamilies.org
END:VEVENT
BEGIN:VEVENT
DTSTART;TZID=UTC:20230731T100000
DTEND;TZID=UTC:20230804T140000
DTSTAMP:20260424T210023
CREATED:20230620T182936Z
LAST-MODIFIED:20230712T221218Z
UID:10000069-1690797600-1691157600@mingowv.com
SUMMARY:ABLE Families Summer Camp (Chef)
DESCRIPTION:Chef camp is designed to engage children and show them fun ways to prepare meals.
URL:https://mingowv.com/event/able-families-summer-camp-chef/
CATEGORIES:Active Living,Healthy Eating
ATTACH;FMTTYPE=image/png:https://mingowv.com/wp-content/uploads/2023/06/trendy-6.png
ORGANIZER;CN="Marlene Spaulding":MAILTO:mspaulding@ablefamilies.org
END:VEVENT
BEGIN:VEVENT
DTSTART;TZID=UTC:20230724T100000
DTEND;TZID=UTC:20230728T140000
DTSTAMP:20260424T210023
CREATED:20230620T182852Z
LAST-MODIFIED:20230712T220954Z
UID:10000068-1690192800-1690552800@mingowv.com
SUMMARY:ABLE Families Summer Camp (Sports)
DESCRIPTION:This sports camp will be geared toward children from kindergarten through 8th grade.
URL:https://mingowv.com/event/able-families-summer-camp-sports/
CATEGORIES:Active Living
ATTACH;FMTTYPE=image/png:https://mingowv.com/wp-content/uploads/2023/06/trendy-7.png
ORGANIZER;CN="Marlene Spaulding":MAILTO:mspaulding@ablefamilies.org
END:VEVENT
BEGIN:VEVENT
DTSTART;TZID=UTC:20230626T100000
DTEND;TZID=UTC:20230630T140000
DTSTAMP:20260424T210023
CREATED:20230620T182613Z
LAST-MODIFIED:20230712T220832Z
UID:10000066-1687773600-1688133600@mingowv.com
SUMMARY:ABLE Families Summer Camp (Healthy Living)
DESCRIPTION:Summer camp for children kindergarten through 8th grade. This camp will focus on healthy living and physical activities for children.
URL:https://mingowv.com/event/able-families-summer-camp-healthy-living/
CATEGORIES:Active Living
ATTACH;FMTTYPE=image/png:https://mingowv.com/wp-content/uploads/2023/06/trendy-7.png
ORGANIZER;CN="Marlene Spaulding":MAILTO:mspaulding@ablefamilies.org
END:VEVENT
BEGIN:VEVENT
DTSTART;TZID=UTC:20230619T100000
DTEND;TZID=UTC:20230623T113000
DTSTAMP:20260424T210023
CREATED:20230620T184527Z
LAST-MODIFIED:20230620T184527Z
UID:10000075-1687168800-1687519800@mingowv.com
SUMMARY:ABLE Families Summer Camp (Art)
DESCRIPTION:This will be a week full of enriching art activities. Showing children how art can be fun and educational at the same time. It will be available for children Kindergarten-8th grade.
URL:https://mingowv.com/event/able-families-summer-camp-art/
CATEGORIES:Arts and Music
ORGANIZER;CN="Marlene Spaulding":MAILTO:mspaulding@ablefamilies.org
END:VEVENT
END:VCALENDAR